BEGIN:VCALENDAR
VERSION:2.0
PRODID:-//ChamberMaster//Event Calendar 2.0//EN
METHOD:PUBLISH
X-PUBLISHED-TTL:P1H
REFRESH-INTERVAL:P1H
CALSCALE:GREGORIAN
BEGIN:VTIMEZONE
TZID:America/New_York
BEGIN:DAYLIGHT
RRULE:FREQ=YEARLY;BYMONTH=3;BYDAY=2SU
DTSTART:20070101T000000
TZOFFSETFROM:-0500
TZOFFSETTO:-0400
TZNAME:Eastern Daylight Time
END:DAYLIGHT
BEGIN:STANDARD
RRULE:FREQ=YEARLY;BYMONTH=11;BYDAY=1SU
DTSTART:20070101T000000
TZOFFSETFROM:-0400
TZOFFSETTO:-0500
TZNAME:Eastern Standard Time
END:STANDARD
END:VTIMEZONE
BEGIN:VEVENT
DTSTART;TZID=America/New_York:20260604T183000
DTEND;TZID=America/New_York:20260604T200000
X-MICROSOFT-CDO-ALLDAYEVENT:FALSE
SUMMARY:Writing Your Own Thriller at Syosset Public Library
DESCRIPTION:How to Write Your Own Thrilling Thriller (Instead of Just Devouring Them) with NYT Best Selling Author Kate White: Thursday\, June 4\, 2026 at 6:30pm–8:00pm.\n\nDo you tear though mysteries and thrillers\, secretly longing to write one yourself?    Why not stop only turning pages and start creating them. In this fun\, super informative talk\,    New York Times bestselling author Kate White—whose 19 mysteries and thrillers have kept readers turning pages long past bedtime—shares her ten strategies for creating a “unputdownable” suspense novel\, as well as tips from other bestselling authors. \nYou’ll discover how to:   \n·       Create a protagonist and plot that hook readers instantly   \n·       Kick off your story with a gripping\, high-stakes “inciting incident”   \n·       Engineer jaw-dropping twists that feel both inevitable and impossible to predict   \n·       Push past procrastination and fear—two of the biggest obstacles that sabotage so many writers   \nPacked with insider tips and examples from some of the many top authors Kate knows (plus a helpful PowerPoint presentation)\, this talk is designed for aspiring authors ready to take the plunge—and for anyone simply curious about what it really takes to master the art of thriller writing.
X-ALT-DESC;FMTTYPE=text/html:How to Write Your Own Thrilling Thriller (Instead of Just Devouring Them) with NYT Best Selling Author Kate White: Thursday\, June 4\, 2026 at 6:30pm–8:00pm.\n\nDo you tear though mysteries and thrillers\, secretly longing to write one yourself?    Why not stop only turning pages and start creating them. In this fun\, super informative talk\,    New York Times bestselling author Kate White—whose 19 mysteries and thrillers have kept readers turning pages long past bedtime—shares her ten strategies for creating a “unputdownable” suspense novel\, as well as tips from other bestselling authors. \nYou’ll discover how to:   \n·       Create a protagonist and plot that hook readers instantly   \n·       Kick off your story with a gripping\, high-stakes “inciting incident”   \n·       Engineer jaw-dropping twists that feel both inevitable and impossible to predict   \n·       Push past procrastination and fear—two of the biggest obstacles that sabotage so many writers   \nPacked with insider tips and examples from some of the many top authors Kate knows (plus a helpful PowerPoint presentation)\, this talk is designed for aspiring authors ready to take the plunge—and for anyone simply curious about what it really takes to master the art of thriller writing.
LOCATION:225 S Oyster Bay Rd Syosset NY 11791
UID:e.3519.1446821
SEQUENCE:3
DTSTAMP:20260423T142350Z
URL:https://business.syossetchamber.com/communityeventcalendar/Details/writing-your-own-thriller-at-syosset-public-library-1713631?sourceTypeId=Hub
END:VEVENT
END:VCALENDAR
